BEGIN:VCALENDAR
VERSION:2.0
PRODID:-//hacksw/handcal//NONSGML v1.0//EN
BEGIN:VEVENT
SUMMARY:Trail du Juliau
UID:11a9bdd6-ed06-4425-a504-45729eba3ddc
DTSTART:20260418T220000Z
DTEND:20260419T220000Z
LOCATION:Localisation   saint jean de centenier
CATEGORIES:Sportif
STATUS:
DESCRIPTION:<p>https://www.facebook.com/profile.php?id=100086633656015</p>
URL;VALUE=URI:https://le-teil-court.sportsregions.fr/evenements/2026/04/19/trail-du-juliau-2427334
END:VEVENT
END:VCALENDAR
