BEGIN:VCALENDAR
VERSION:2.0
PRODID:-//hacksw/handcal//NONSGML v1.0//EN
BEGIN:VEVENT
SUMMARY:Trail des Allumes du Barry
UID:331cbdef-00bb-4a2b-99cd-902da1c6da5c
DTSTART:20260411T220000Z
DTEND:20260412T220000Z
LOCATION:Localisation   saint restitut
CATEGORIES:Sportif
STATUS:
DESCRIPTION:<p>https://www.facebook.com/traildesallumesdubarry/?locale=fr_FR</p>
URL;VALUE=URI:https://le-teil-court.sportsregions.fr/evenements/2026/04/12/trail-des-allumes-du-barry-2427333
END:VEVENT
END:VCALENDAR
